BEGIN:VCALENDAR
VERSION:2.0
PRODID:-//Wrekin Golf - ECPv6.15.18//NONSGML v1.0//EN
CALSCALE:GREGORIAN
METHOD:PUBLISH
X-WR-CALNAME:Wrekin Golf
X-ORIGINAL-URL:https://www.wrekingolfclub.co.uk
X-WR-CALDESC:Events for Wrekin Golf
REFRESH-INTERVAL;VALUE=DURATION:PT1H
X-Robots-Tag:noindex
X-PUBLISHED-TTL:PT1H
BEGIN:VTIMEZONE
TZID:Europe/London
BEGIN:DAYLIGHT
TZOFFSETFROM:+0000
TZOFFSETTO:+0100
TZNAME:BST
DTSTART:20240331T010000
END:DAYLIGHT
BEGIN:STANDARD
TZOFFSETFROM:+0100
TZOFFSETTO:+0000
TZNAME:GMT
DTSTART:20241027T010000
END:STANDARD
BEGIN:DAYLIGHT
TZOFFSETFROM:+0000
TZOFFSETTO:+0100
TZNAME:BST
DTSTART:20250330T010000
END:DAYLIGHT
BEGIN:STANDARD
TZOFFSETFROM:+0100
TZOFFSETTO:+0000
TZNAME:GMT
DTSTART:20251026T010000
END:STANDARD
BEGIN:DAYLIGHT
TZOFFSETFROM:+0000
TZOFFSETTO:+0100
TZNAME:BST
DTSTART:20260329T010000
END:DAYLIGHT
BEGIN:STANDARD
TZOFFSETFROM:+0100
TZOFFSETTO:+0000
TZNAME:GMT
DTSTART:20261025T010000
END:STANDARD
END:VTIMEZONE
BEGIN:VEVENT
DTSTART;TZID=Europe/London:20251221T120000
DTEND;TZID=Europe/London:20251221T160000
DTSTAMP:20260419T131914
CREATED:20251007T103345Z
LAST-MODIFIED:20251007T103345Z
UID:10000104-1766318400-1766332800@www.wrekingolfclub.co.uk
SUMMARY:Sunday Lunch
DESCRIPTION:🎄🍽️ SUNDAY LUNCH 🍽️🎄🗓 Sunday 21st December🕛 12:00 PM – 4:00 PM \n🎅 Our Last Sunday Lunch Before Christmas! \nJoin us for a festive feast with all the trimmings – perfect for getting into the Christmas spirit with friends and family. \n✨ Booking Essential – It’s a popular one! \n💷 £21.95 – 2 Courses💷 £26.95 – 3 Courses \nMake it a Sunday to remember before the big day! 🎁Reserve your table now to avoid missing out.
URL:https://www.wrekingolfclub.co.uk/event/sunday-lunch-5/
END:VEVENT
BEGIN:VEVENT
DTSTART;TZID=Europe/London:20251217T193000
DTEND;TZID=Europe/London:20251217T220000
DTSTAMP:20260419T131914
CREATED:20251007T103135Z
LAST-MODIFIED:20251007T103135Z
UID:10000103-1765999800-1766008800@www.wrekingolfclub.co.uk
SUMMARY:Christmas Quiz
DESCRIPTION:🎄🧠 CHRISTMAS QUIZ NIGHT 🧠🎄\n📅 Wednesday 17th December\n🕢 7:30 PM Start\n💷 £2.50 per person \nThink you know your Christmas films\, festive songs\, and reindeer names?\nThen gather your elves and join us for a night of merry mayhem and trivia! \n🎁 Prizes for 1st–3rd Place\n🍫 Chocolates for the team finishing last\n🎅 Spot prize for the best festive outfit! \n✨ ‘Yule’ be sorry if you miss it! ✨
URL:https://www.wrekingolfclub.co.uk/event/christmas-quiz/
END:VEVENT
BEGIN:VEVENT
DTSTART;TZID=Europe/London:20251213T190000
DTEND;TZID=Europe/London:20251213T233000
DTSTAMP:20260419T131914
CREATED:20251007T101711Z
LAST-MODIFIED:20251007T101711Z
UID:10000102-1765652400-1765668600@www.wrekingolfclub.co.uk
SUMMARY:Christmas Party
DESCRIPTION:🎄✨ MEMBERS’ CHRISTMAS PARTY ✨🎄\n🗓 Saturday 13th December\n🕗 Doors Open at 7:00 PM\, Dinner served 7.30pm\n💷 £27.50 per person \n🎅 Get ready for a festive night of food\, fun & dancing!\nJoin us as we kick off the holiday season in style with a: \n🍽️ Delicious 2-Course Christmas Meal\n🪩 Lively Christmas Disco ’til late\n🎁 Festive surprises & plenty of cheer! \nWhether you’re rocking around the Christmas tree or just there for the mince pies and music\, this is a night to dress up\, let loose\, and make some merry memories. \n🎉 A night not to be missed – book your place now!
URL:https://www.wrekingolfclub.co.uk/event/christmas-party/
END:VEVENT
BEGIN:VEVENT
DTSTART;TZID=Europe/London:20251203T170000
DTEND;TZID=Europe/London:20251203T200000
DTSTAMP:20260419T131914
CREATED:20251007T100806Z
LAST-MODIFIED:20251007T100806Z
UID:10000101-1764781200-1764792000@www.wrekingolfclub.co.uk
SUMMARY:Night Golf
DESCRIPTION: Night Golf Event Wednesday 3rd December £30 per person – includes a festive turkey bap!\n What’s included:\nFull LED lighting across 6 holes\nGlow-in-the-dark LED golf balls\n\nBring your friends and enjoy a festive round of golf like never before!
URL:https://www.wrekingolfclub.co.uk/event/night-golf/
END:VEVENT
BEGIN:VEVENT
DTSTART;TZID=Europe/London:20251130T120000
DTEND;TZID=Europe/London:20251130T160000
DTSTAMP:20260419T131914
CREATED:20251007T100607Z
LAST-MODIFIED:20251007T100607Z
UID:10000099-1764504000-1764518400@www.wrekingolfclub.co.uk
SUMMARY:Sunday Lunch
DESCRIPTION: Sunday Lunch is served! Sunday 30th November | 12–4 PMEnjoy a cosy afternoon of great food\, good company\, and that perfect Sunday feeling.Book your table now — spaces fill up fast!
URL:https://www.wrekingolfclub.co.uk/event/sunday-lunch-3/
END:VEVENT
BEGIN:VEVENT
DTSTART;TZID=Europe/London:20251128T193000
DTEND;TZID=Europe/London:20251128T220000
DTSTAMP:20260419T131914
CREATED:20251007T100501Z
LAST-MODIFIED:20251007T100501Z
UID:10000098-1764358200-1764367200@www.wrekingolfclub.co.uk
SUMMARY:Quiz Night
DESCRIPTION: QUIZ NIGHT IS BACK – ROUND 3! \nThink you’ve got what it takes to top the leaderboard this time?Gather your team for another evening of fun\, laughter & friendly competition! \n Friday 28th November Starts 7:30 PM £2 per person\nBring your quiz crew\, grab a drink\, and get ready to test your brainpower! Who will be crowned champions this time?
URL:https://www.wrekingolfclub.co.uk/event/quiz-night-3/
END:VEVENT
BEGIN:VEVENT
DTSTART;TZID=Europe/London:20251121T190000
DTEND;TZID=Europe/London:20251121T220000
DTSTAMP:20260419T131914
CREATED:20251007T100353Z
LAST-MODIFIED:20251007T100353Z
UID:10000097-1763751600-1763762400@www.wrekingolfclub.co.uk
SUMMARY:Presentation Night
DESCRIPTION: PRESENTATION NIGHT 2025 \nJoin us as we celebrate the achievements of our players and teams throughout the season — both Club and County! \n Friday 21st November Starts 7 PM Dress code: Jacket & Tie\nAn evening to honour our winners\, reflect on a fantastic season\, and enjoy great company. \nLet’s make it a night to remember — we look forward to celebrating with you!
URL:https://www.wrekingolfclub.co.uk/event/presentation-night/
END:VEVENT
BEGIN:VEVENT
DTSTART;TZID=Europe/London:20251116T193000
DTEND;TZID=Europe/London:20251116T220000
DTSTAMP:20260419T131914
CREATED:20251007T100255Z
LAST-MODIFIED:20251007T100255Z
UID:10000096-1763321400-1763330400@www.wrekingolfclub.co.uk
SUMMARY:Bingo Night
DESCRIPTION: BINGO NIGHT IS BACK! \nGet ready for another evening of fun\, laughter & prizes! Sunday 16th November Starts 7:30 PM\n £12 for 6 games 2 optional jackpot games – £1 each *Last house paying £100!\nBring your lucky charm and your best “BINGO!” voice! Everyone’s welcome – the more who play\, the bigger the prizes! \nBased on 30 players — more players = bigger payout!
URL:https://www.wrekingolfclub.co.uk/event/bingo-night-2/
END:VEVENT
BEGIN:VEVENT
DTSTART;TZID=Europe/London:20251116T120000
DTEND;TZID=Europe/London:20251116T160000
DTSTAMP:20260419T131914
CREATED:20251007T100650Z
LAST-MODIFIED:20251007T100650Z
UID:10000100-1763294400-1763308800@www.wrekingolfclub.co.uk
SUMMARY:Sunday Lunch
DESCRIPTION: Sunday Lunch is served! Sunday 16th November | 12–4 PMEnjoy a cosy afternoon of great food\, good company\, and that perfect Sunday feeling.Book your table now — spaces fill up fast!
URL:https://www.wrekingolfclub.co.uk/event/sunday-lunch-4/
END:VEVENT
BEGIN:VEVENT
DTSTART;TZID=Europe/London:20251108T180000
DTEND;TZID=Europe/London:20251108T203000
DTSTAMP:20260419T131914
CREATED:20251007T100136Z
LAST-MODIFIED:20251007T100136Z
UID:10000095-1762624800-1762633800@www.wrekingolfclub.co.uk
SUMMARY:Steak Night
DESCRIPTION:STEAK NIGHT IN THE RESTAURANT! \nTreat yourself to a delicious evening of perfectly cooked steaks and great wine — the perfect date night or catch-up with friends! \n Saturday 8th November 6 PM – 8:30 PM 2 steaks & a bottle of wine – £55\n Starters and desserts also available \nBook your table now — this one’s too tasty to miss!
URL:https://www.wrekingolfclub.co.uk/event/steak-night/
END:VEVENT
BEGIN:VEVENT
DTSTART;TZID=Europe/London:20251031T193000
DTEND;TZID=Europe/London:20251031T210000
DTSTAMP:20260419T131914
CREATED:20251007T095900Z
LAST-MODIFIED:20251007T103453Z
UID:10000094-1761939000-1761944400@www.wrekingolfclub.co.uk
SUMMARY:Quiz Night
DESCRIPTION: Think you’re scary good at trivia?Join us for a spooktacular Quiz Night filled with fun\, laughter\, and maybe a few tricks and treats! \n Thursday 31st October Starts 7:30 PM £2 per person\nDress up if you dare Grab your team and get ready for a frightfully fun evening
URL:https://www.wrekingolfclub.co.uk/event/quiz-night-2/
END:VEVENT
BEGIN:VEVENT
DTSTART;TZID=Europe/London:20251026T120000
DTEND;TZID=Europe/London:20251026T160000
DTSTAMP:20260419T131914
CREATED:20251007T095755Z
LAST-MODIFIED:20251007T095755Z
UID:10000093-1761480000-1761494400@www.wrekingolfclub.co.uk
SUMMARY:Sunday Lunch
DESCRIPTION: Sunday Lunch is served! Sunday 26th October | 12–4 PMEnjoy a cosy afternoon of great food\, good company\, and that perfect Sunday feeling.Book your table now — spaces fill up fast!
URL:https://www.wrekingolfclub.co.uk/event/sunday-lunch-2/
END:VEVENT
BEGIN:VEVENT
DTSTART;TZID=Europe/London:20251025T180000
DTEND;TZID=Europe/London:20251025T213000
DTSTAMP:20260419T131914
CREATED:20251007T095650Z
LAST-MODIFIED:20251007T095650Z
UID:10000092-1761415200-1761427800@www.wrekingolfclub.co.uk
SUMMARY:Firework Display
DESCRIPTION: FIREWORK DISPLAY NIGHT! \n A highlight of the social calendar – don’t miss it! \n Saturday 25th October £10 per car Gates open from 6 PM Food specials available Fireworks start at 8 PM\nBring the family\, wrap up warm\, and get ready for a spectacular evening full of colour\, sparkle\, and fun! 
URL:https://www.wrekingolfclub.co.uk/event/firework-display/
END:VEVENT
BEGIN:VEVENT
DTSTART;TZID=Europe/London:20251012T193000
DTEND;TZID=Europe/London:20251012T220000
DTSTAMP:20260419T131914
CREATED:20251007T093526Z
LAST-MODIFIED:20251007T093526Z
UID:10000091-1760297400-1760306400@www.wrekingolfclub.co.uk
SUMMARY:Bingo Night
DESCRIPTION:🎱 BINGO NIGHT 🎱🗓 Sunday 12th October🕢 Eyes Down at 7:30 PM \n💷 £12 for 6 Games➕ 2 Optional Jackpot Games – £1 Each \n🏆 Last House Wins £100Based on 30 players – the more players\, the bigger the prize! \nJoin us for a fun-filled evening of bingo\, laughs\, and big prizes!
URL:https://www.wrekingolfclub.co.uk/event/bingo-night/
END:VEVENT
BEGIN:VEVENT
DTSTART;TZID=Europe/London:20251005T120000
DTEND;TZID=Europe/London:20251005T160000
DTSTAMP:20260419T131914
CREATED:20251007T093146Z
LAST-MODIFIED:20251007T093146Z
UID:10000090-1759665600-1759680000@www.wrekingolfclub.co.uk
SUMMARY:Sunday Lunch
DESCRIPTION:🍽️ SUNDAY LUNCH 🍽️🗓 Sunday 5th October🕛 12:00 PM – 4:00 PM \n✨ Booking Essential – Reserve Your Table Early! \nEnjoy a delicious\, freshly prepared Sunday roast in a relaxed setting. \n£21.95 – 2 Courses£26.95 – 3 Courses \n📞 Call now to book your table – don’t miss out on a perfect Sunday treat!
URL:https://www.wrekingolfclub.co.uk/event/sunday-lunch/
END:VEVENT
BEGIN:VEVENT
DTSTART;TZID=Europe/London:20251003T193000
DTEND;TZID=Europe/London:20251003T220000
DTSTAMP:20260419T131914
CREATED:20251007T092850Z
LAST-MODIFIED:20251007T092850Z
UID:10000089-1759519800-1759528800@www.wrekingolfclub.co.uk
SUMMARY:Quiz Night
DESCRIPTION:🎉 QUIZ NIGHT 🎉🗓 Friday 3rd October🕢 7:30 PM Start💷 £2 Entry Per Person \n📍 Put your knowledge to the test in a fun evening of trivia and laughs!👥 Teams welcome (max team size optional if you want to set one) \n🏆 Prizes for 1st\, 2nd & 3rd Place🍫 Chocolates for the team finishing last — because everyone deserves a treat! \nDon’t miss out – gather your team and come join the fun!
URL:https://www.wrekingolfclub.co.uk/event/quiz-night/
END:VEVENT
END:VCALENDAR