BEGIN:VCALENDAR
VERSION:2.0
PRODID:-//Wrekin Golf - ECPv6.15.18//NONSGML v1.0//EN
CALSCALE:GREGORIAN
METHOD:PUBLISH
X-WR-CALNAME:Wrekin Golf
X-ORIGINAL-URL:https://www.wrekingolfclub.co.uk
X-WR-CALDESC:Events for Wrekin Golf
REFRESH-INTERVAL;VALUE=DURATION:PT1H
X-Robots-Tag:noindex
X-PUBLISHED-TTL:PT1H
BEGIN:VTIMEZONE
TZID:Europe/London
BEGIN:DAYLIGHT
TZOFFSETFROM:+0000
TZOFFSETTO:+0100
TZNAME:BST
DTSTART:20240331T010000
END:DAYLIGHT
BEGIN:STANDARD
TZOFFSETFROM:+0100
TZOFFSETTO:+0000
TZNAME:GMT
DTSTART:20241027T010000
END:STANDARD
BEGIN:DAYLIGHT
TZOFFSETFROM:+0000
TZOFFSETTO:+0100
TZNAME:BST
DTSTART:20250330T010000
END:DAYLIGHT
BEGIN:STANDARD
TZOFFSETFROM:+0100
TZOFFSETTO:+0000
TZNAME:GMT
DTSTART:20251026T010000
END:STANDARD
BEGIN:DAYLIGHT
TZOFFSETFROM:+0000
TZOFFSETTO:+0100
TZNAME:BST
DTSTART:20260329T010000
END:DAYLIGHT
BEGIN:STANDARD
TZOFFSETFROM:+0100
TZOFFSETTO:+0000
TZNAME:GMT
DTSTART:20261025T010000
END:STANDARD
END:VTIMEZONE
BEGIN:VEVENT
DTSTART;TZID=Europe/London:20251031T193000
DTEND;TZID=Europe/London:20251031T210000
DTSTAMP:20260419T144812
CREATED:20251007T095900Z
LAST-MODIFIED:20251007T103453Z
UID:10000094-1761939000-1761944400@www.wrekingolfclub.co.uk
SUMMARY:Quiz Night
DESCRIPTION: Think you’re scary good at trivia?Join us for a spooktacular Quiz Night filled with fun\, laughter\, and maybe a few tricks and treats! \n Thursday 31st October Starts 7:30 PM £2 per person\nDress up if you dare Grab your team and get ready for a frightfully fun evening
URL:https://www.wrekingolfclub.co.uk/event/quiz-night-2/
END:VEVENT
BEGIN:VEVENT
DTSTART;TZID=Europe/London:20251026T120000
DTEND;TZID=Europe/London:20251026T160000
DTSTAMP:20260419T144812
CREATED:20251007T095755Z
LAST-MODIFIED:20251007T095755Z
UID:10000093-1761480000-1761494400@www.wrekingolfclub.co.uk
SUMMARY:Sunday Lunch
DESCRIPTION: Sunday Lunch is served! Sunday 26th October | 12–4 PMEnjoy a cosy afternoon of great food\, good company\, and that perfect Sunday feeling.Book your table now — spaces fill up fast!
URL:https://www.wrekingolfclub.co.uk/event/sunday-lunch-2/
END:VEVENT
BEGIN:VEVENT
DTSTART;TZID=Europe/London:20251025T180000
DTEND;TZID=Europe/London:20251025T213000
DTSTAMP:20260419T144812
CREATED:20251007T095650Z
LAST-MODIFIED:20251007T095650Z
UID:10000092-1761415200-1761427800@www.wrekingolfclub.co.uk
SUMMARY:Firework Display
DESCRIPTION: FIREWORK DISPLAY NIGHT! \n A highlight of the social calendar – don’t miss it! \n Saturday 25th October £10 per car Gates open from 6 PM Food specials available Fireworks start at 8 PM\nBring the family\, wrap up warm\, and get ready for a spectacular evening full of colour\, sparkle\, and fun! 
URL:https://www.wrekingolfclub.co.uk/event/firework-display/
END:VEVENT
BEGIN:VEVENT
DTSTART;TZID=Europe/London:20251012T193000
DTEND;TZID=Europe/London:20251012T220000
DTSTAMP:20260419T144812
CREATED:20251007T093526Z
LAST-MODIFIED:20251007T093526Z
UID:10000091-1760297400-1760306400@www.wrekingolfclub.co.uk
SUMMARY:Bingo Night
DESCRIPTION:🎱 BINGO NIGHT 🎱🗓 Sunday 12th October🕢 Eyes Down at 7:30 PM \n💷 £12 for 6 Games➕ 2 Optional Jackpot Games – £1 Each \n🏆 Last House Wins £100Based on 30 players – the more players\, the bigger the prize! \nJoin us for a fun-filled evening of bingo\, laughs\, and big prizes!
URL:https://www.wrekingolfclub.co.uk/event/bingo-night/
END:VEVENT
BEGIN:VEVENT
DTSTART;TZID=Europe/London:20251005T120000
DTEND;TZID=Europe/London:20251005T160000
DTSTAMP:20260419T144812
CREATED:20251007T093146Z
LAST-MODIFIED:20251007T093146Z
UID:10000090-1759665600-1759680000@www.wrekingolfclub.co.uk
SUMMARY:Sunday Lunch
DESCRIPTION:🍽️ SUNDAY LUNCH 🍽️🗓 Sunday 5th October🕛 12:00 PM – 4:00 PM \n✨ Booking Essential – Reserve Your Table Early! \nEnjoy a delicious\, freshly prepared Sunday roast in a relaxed setting. \n£21.95 – 2 Courses£26.95 – 3 Courses \n📞 Call now to book your table – don’t miss out on a perfect Sunday treat!
URL:https://www.wrekingolfclub.co.uk/event/sunday-lunch/
END:VEVENT
BEGIN:VEVENT
DTSTART;TZID=Europe/London:20251003T193000
DTEND;TZID=Europe/London:20251003T220000
DTSTAMP:20260419T144812
CREATED:20251007T092850Z
LAST-MODIFIED:20251007T092850Z
UID:10000089-1759519800-1759528800@www.wrekingolfclub.co.uk
SUMMARY:Quiz Night
DESCRIPTION:🎉 QUIZ NIGHT 🎉🗓 Friday 3rd October🕢 7:30 PM Start💷 £2 Entry Per Person \n📍 Put your knowledge to the test in a fun evening of trivia and laughs!👥 Teams welcome (max team size optional if you want to set one) \n🏆 Prizes for 1st\, 2nd & 3rd Place🍫 Chocolates for the team finishing last — because everyone deserves a treat! \nDon’t miss out – gather your team and come join the fun!
URL:https://www.wrekingolfclub.co.uk/event/quiz-night/
END:VEVENT
END:VCALENDAR